BEGIN:VCALENDAR
VERSION:2.0
BEGIN:VEVENT
SUMMARY:Saint-Omer, ville étape des 4 jours de Dunkerque
DESCRIPTION:
DTSTART:20260524T070000
DTEND:20260524T080000
LOCATION:
END:VEVENT
END:VCALENDAR
